BEGIN:VCALENDAR
VERSION:2.0
PRODID:-//OPOC - ECPv6.15.13.1//NONSGML v1.0//EN
CALSCALE:GREGORIAN
METHOD:PUBLISH
X-WR-CALNAME:OPOC
X-ORIGINAL-URL:https://opocbluepacific.org
X-WR-CALDESC:Events for OPOC
REFRESH-INTERVAL;VALUE=DURATION:PT1H
X-Robots-Tag:noindex
X-PUBLISHED-TTL:PT1H
BEGIN:VTIMEZONE
TZID:UTC
BEGIN:STANDARD
TZOFFSETFROM:+0000
TZOFFSETTO:+0000
TZNAME:UTC
DTSTART:20230101T000000
END:STANDARD
END:VTIMEZONE
BEGIN:VEVENT
DTSTART;TZID=UTC:20240610T080000
DTEND;TZID=UTC:20240614T170000
DTSTAMP:20260425T031859
CREATED:20240318T230754Z
LAST-MODIFIED:20240318T230754Z
UID:1801-1718006400-1718384400@opocbluepacific.org
SUMMARY:Meeting of States Parties to the 1982 UNCLOS – 34th meeting\, UNHQ\, New York
DESCRIPTION:
URL:https://opocbluepacific.org/event/meeting-of-states-parties-to-the-1982-unclos-34th-meeting-unhq-new-york/
CATEGORIES:The Blue Pacific Continent
ATTACH;FMTTYPE=image/jpeg:https://opocbluepacific.org/wp-content/uploads/2025/05/Corres20250513-336-UNOC-13May-Practical-Information-UNOC3.-9-13-June-2025-Nice-France-pdf.jpg
END:VEVENT
BEGIN:VEVENT
DTSTART;TZID=UTC:20240618T080000
DTEND;TZID=UTC:20240621T170000
DTSTAMP:20260425T031859
CREATED:20240318T230836Z
LAST-MODIFIED:20240318T230836Z
UID:1803-1718697600-1718989200@opocbluepacific.org
SUMMARY:UN Open-ended Informal Consultative Process on Ocean and the Law of the Sea – 24th meeting\, UNHQ\, New York
DESCRIPTION:
URL:https://opocbluepacific.org/event/un-open-ended-informal-consultative-process-on-ocean-and-the-law-of-the-sea-24th-meeting-unhq-new-york/
CATEGORIES:The Blue Pacific Continent
ATTACH;FMTTYPE=image/jpeg:https://opocbluepacific.org/wp-content/uploads/2025/05/Corres20250513-336-UNOC-13May-Practical-Information-UNOC3.-9-13-June-2025-Nice-France-pdf.jpg
END:VEVENT
END:VCALENDAR