BEGIN:VCALENDAR
VERSION:2.0
PRODID:-//OPOC - ECPv6.15.13.1//NONSGML v1.0//EN
CALSCALE:GREGORIAN
METHOD:PUBLISH
X-ORIGINAL-URL:https://opocbluepacific.org
X-WR-CALDESC:Events for OPOC
REFRESH-INTERVAL;VALUE=DURATION:PT1H
X-Robots-Tag:noindex
X-PUBLISHED-TTL:PT1H
BEGIN:VTIMEZONE
TZID:UTC
BEGIN:STANDARD
TZOFFSETFROM:+0000
TZOFFSETTO:+0000
TZNAME:UTC
DTSTART:20240101T000000
END:STANDARD
END:VTIMEZONE
BEGIN:VEVENT
DTSTART;TZID=UTC:20250203T080000
DTEND;TZID=UTC:20250205T170000
DTSTAMP:20260425T160109
CREATED:20241206T023503Z
LAST-MODIFIED:20250210T211639Z
UID:1981-1738569600-1738774800@opocbluepacific.org
SUMMARY:Regional Technical Preparations to UNOC3
DESCRIPTION:
URL:https://opocbluepacific.org/event/regional-technical-preparations-to-unoc3-2/
LOCATION:Fiji\, Suva\, Fiji
CATEGORIES:The Blue Pacific Continent
ATTACH;FMTTYPE=image/png:https://opocbluepacific.org/wp-content/uploads/2024/12/UNOC3.png
END:VEVENT
BEGIN:VEVENT
DTSTART;TZID=UTC:20250217T080000
DTEND;TZID=UTC:20250221T170000
DTSTAMP:20260425T160109
CREATED:20241206T023545Z
LAST-MODIFIED:20250210T213300Z
UID:1983-1739779200-1740157200@opocbluepacific.org
SUMMARY:Pacific Islands Forum Talanoa on Deep Sea Minerals
DESCRIPTION:
URL:https://opocbluepacific.org/event/pacific-islands-forum-talanoa-on-deep-sea-minerals-2/
LOCATION:Fiji\, Suva\, Fiji
CATEGORIES:The Blue Pacific Continent
ATTACH;FMTTYPE=image/png:https://opocbluepacific.org/wp-content/uploads/2024/12/Pacific-Islands-Forum-Talanoa-on-Deep-Sea-Minerals.png
END:VEVENT
BEGIN:VEVENT
DTSTART;TZID=UTC:20250225T080000
DTEND;TZID=UTC:20250227T170000
DTSTAMP:20260425T160109
CREATED:20241121T211229Z
LAST-MODIFIED:20250210T213152Z
UID:1933-1740470400-1740675600@opocbluepacific.org
SUMMARY:Honiara Summit on SDG 14.4
DESCRIPTION:
URL:https://opocbluepacific.org/event/honiara-summit-on-sdg-14-4/
LOCATION:Honiara\, Solomon Islands\, Honiara\, Solomon Islands
CATEGORIES:The Blue Pacific Continent
ATTACH;FMTTYPE=image/png:https://opocbluepacific.org/wp-content/uploads/2024/11/Honiara-Summit-on-SDG-14.4.png
END:VEVENT
END:VCALENDAR