BEGIN:VCALENDAR
VERSION:2.0
PRODID:-//OPOC - ECPv6.15.13.1//NONSGML v1.0//EN
CALSCALE:GREGORIAN
METHOD:PUBLISH
X-ORIGINAL-URL:https://opocbluepacific.org
X-WR-CALDESC:Events for OPOC
REFRESH-INTERVAL;VALUE=DURATION:PT1H
X-Robots-Tag:noindex
X-PUBLISHED-TTL:PT1H
BEGIN:VTIMEZONE
TZID:UTC
BEGIN:STANDARD
TZOFFSETFROM:+0000
TZOFFSETTO:+0000
TZNAME:UTC
DTSTART:20240101T000000
END:STANDARD
END:VTIMEZONE
BEGIN:VEVENT
DTSTART;TZID=UTC:20250331T080000
DTEND;TZID=UTC:20250404T170000
DTSTAMP:20260425T192902
CREATED:20241121T211546Z
LAST-MODIFIED:20250519T231407Z
UID:1940-1743408000-1743786000@opocbluepacific.org
SUMMARY:Regional BBNJ Preparatory Meeting PrepCom
DESCRIPTION:
URL:https://opocbluepacific.org/event/regional-bbnj-preparatory-meeting-prepcom/
LOCATION:Fiji\, Suva\, Fiji
CATEGORIES:The Blue Pacific Continent
ATTACH;FMTTYPE=image/jpeg:https://opocbluepacific.org/wp-content/uploads/2024/11/Regional-BBNJ-Preparatory-Meeting-PrepCom.jpg
END:VEVENT
BEGIN:VEVENT
DTSTART;TZID=UTC:20250410T080000
DTEND;TZID=UTC:20250411T170000
DTSTAMP:20260425T192902
CREATED:20241206T024139Z
LAST-MODIFIED:20250210T212802Z
UID:1991-1744272000-1744390800@opocbluepacific.org
SUMMARY:Pacific Ocean Alliance Ministerial Meeting
DESCRIPTION:
URL:https://opocbluepacific.org/event/pacific-ocean-alliance-ministerial-meeting-2/
LOCATION:Fiji\, Suva\, Fiji
CATEGORIES:The Blue Pacific Continent
ATTACH;FMTTYPE=image/png:https://opocbluepacific.org/wp-content/uploads/2024/12/Pacific-Ocean-Alliance-Ministerial-Meeting.png
END:VEVENT
BEGIN:VEVENT
DTSTART;TZID=UTC:20250414T080000
DTEND;TZID=UTC:20250425T170000
DTSTAMP:20260425T192902
CREATED:20241121T211950Z
LAST-MODIFIED:20250210T212709Z
UID:1945-1744617600-1745600400@opocbluepacific.org
SUMMARY:BBNJ Preparatory Commission
DESCRIPTION:
URL:https://opocbluepacific.org/event/bbnj-preparatory-commission/
LOCATION:New York\, UNHQ New York\, United States
CATEGORIES:The Blue Pacific Continent
ATTACH;FMTTYPE=image/png:https://opocbluepacific.org/wp-content/uploads/2024/11/BBNJ-Preparatory-Commission.png
END:VEVENT
BEGIN:VEVENT
DTSTART;TZID=UTC:20250428T080000
DTEND;TZID=UTC:20250430T170000
DTSTAMP:20260425T192902
CREATED:20241121T212144Z
LAST-MODIFIED:20250210T212548Z
UID:1948-1745827200-1746032400@opocbluepacific.org
SUMMARY:10th Our Ocean Conference
DESCRIPTION:
URL:https://opocbluepacific.org/event/10th-our-ocean-conference/
LOCATION:Republic of Korea\, Busan\, Korea\, Republic of
CATEGORIES:The Blue Pacific Continent
ATTACH;FMTTYPE=image/png:https://opocbluepacific.org/wp-content/uploads/2024/11/10th-Our-Ocean-Conference.png
END:VEVENT
END:VCALENDAR