BEGIN:VCALENDAR
VERSION:2.0
PRODID:-//OPOC - ECPv6.15.13.1//NONSGML v1.0//EN
CALSCALE:GREGORIAN
METHOD:PUBLISH
X-WR-CALNAME:OPOC
X-ORIGINAL-URL:https://opocbluepacific.org
X-WR-CALDESC:Events for OPOC
REFRESH-INTERVAL;VALUE=DURATION:PT1H
X-Robots-Tag:noindex
X-PUBLISHED-TTL:PT1H
BEGIN:VTIMEZONE
TZID:UTC
BEGIN:STANDARD
TZOFFSETFROM:+0000
TZOFFSETTO:+0000
TZNAME:UTC
DTSTART:20240101T000000
END:STANDARD
END:VTIMEZONE
BEGIN:VEVENT
DTSTART;TZID=UTC:20250604T080000
DTEND;TZID=UTC:20250606T170000
DTSTAMP:20260425T232036
CREATED:20241121T223550Z
LAST-MODIFIED:20250210T212448Z
UID:1951-1749024000-1749229200@opocbluepacific.org
SUMMARY:One Ocean Science Congress
DESCRIPTION:
URL:https://opocbluepacific.org/event/one-ocean-science-congress/
LOCATION:France\, Nice\, France
CATEGORIES:The Blue Pacific Continent
ATTACH;FMTTYPE=image/jpeg:https://opocbluepacific.org/wp-content/uploads/2024/11/One-Ocean-Science-Congress.jpg
END:VEVENT
BEGIN:VEVENT
DTSTART;TZID=UTC:20250607T080000
DTEND;TZID=UTC:20250607T170000
DTSTAMP:20260425T232036
CREATED:20241121T224108Z
LAST-MODIFIED:20250210T212344Z
UID:1959-1749283200-1749315600@opocbluepacific.org
SUMMARY:Ocean Rise and Coastal Resilience Coalition Summit
DESCRIPTION:
URL:https://opocbluepacific.org/event/ocean-rise-and-coastal-resilience-coalition-summit/
LOCATION:France\, Nice\, France
CATEGORIES:The Blue Pacific Continent
ATTACH;FMTTYPE=image/jpeg:https://opocbluepacific.org/wp-content/uploads/2024/11/Ocean-Rise-and-Coastal-Resilience-Coalition-Summit.jpg
END:VEVENT
BEGIN:VEVENT
DTSTART;TZID=UTC:20250607T080000
DTEND;TZID=UTC:20250608T170000
DTSTAMP:20260425T232036
CREATED:20241121T223653Z
LAST-MODIFIED:20250210T212215Z
UID:1954-1749283200-1749402000@opocbluepacific.org
SUMMARY:Blue Economy & Finance Forum
DESCRIPTION:
URL:https://opocbluepacific.org/event/blue-economy-finance-forum/
LOCATION:Monaco\, Monaco
CATEGORIES:The Blue Pacific Continent
ATTACH;FMTTYPE=image/png:https://opocbluepacific.org/wp-content/uploads/2024/11/Blue-Economy-Finance-Forum.png
END:VEVENT
BEGIN:VEVENT
DTSTART;TZID=UTC:20250609T080000
DTEND;TZID=UTC:20250613T170000
DTSTAMP:20260425T232036
CREATED:20241121T224205Z
LAST-MODIFIED:20250210T211934Z
UID:1961-1749456000-1749834000@opocbluepacific.org
SUMMARY:Third United Nations Conference to follow the implementation of SDG 14 (UNOC 3)
DESCRIPTION:UNOC 3\, co-organized by the governments of France and Costa Rica\, aims to foster further momentum for the implementation of SDG 14 and related ocean commitments.
URL:https://opocbluepacific.org/event/third-united-nations-conference-to-follow-the-implementation-of-sdg-14-unoc-3/
LOCATION:France\, Nice\, France
CATEGORIES:The Blue Pacific Continent
ATTACH;FMTTYPE=image/png:https://opocbluepacific.org/wp-content/uploads/2024/11/Third-United-Nations-Conference-to-follow-the-implementation-of-SDG-14-UNOC-3.png
END:VEVENT
END:VCALENDAR