BEGIN:VCALENDAR
VERSION:2.0
PRODID:-//OPOC - ECPv6.15.13.1//NONSGML v1.0//EN
CALSCALE:GREGORIAN
METHOD:PUBLISH
X-WR-CALNAME:OPOC
X-ORIGINAL-URL:https://opocbluepacific.org
X-WR-CALDESC:Events for OPOC
REFRESH-INTERVAL;VALUE=DURATION:PT1H
X-Robots-Tag:noindex
X-PUBLISHED-TTL:PT1H
BEGIN:VTIMEZONE
TZID:UTC
BEGIN:STANDARD
TZOFFSETFROM:+0000
TZOFFSETTO:+0000
TZNAME:UTC
DTSTART:20230101T000000
END:STANDARD
END:VTIMEZONE
BEGIN:VEVENT
DTSTART;TZID=UTC:20240925T080000
DTEND;TZID=UTC:20241001T170000
DTSTAMP:20260425T102947
CREATED:20240318T231412Z
LAST-MODIFIED:20240703T023544Z
UID:1825-1727251200-1727802000@opocbluepacific.org
SUMMARY:WCPF 20th Regular Session of the Technical and Compliance Committee\, Pohnpei\, Federated States of Micronesia
DESCRIPTION:
URL:https://opocbluepacific.org/event/wcpf-20th-regular-session-of-the-technical-and-compliance-committee-pohnpei-federated-states-of-micronesia/
CATEGORIES:The Blue Pacific Continent
ATTACH;FMTTYPE=image/jpeg:https://opocbluepacific.org/wp-content/uploads/2024/05/Defssault-1200x500-1.jpg
END:VEVENT
END:VCALENDAR