BEGIN:VCALENDAR
VERSION:2.0
PRODID:-//OPOC - ECPv6.15.13.1//NONSGML v1.0//EN
CALSCALE:GREGORIAN
METHOD:PUBLISH
X-WR-CALNAME:OPOC
X-ORIGINAL-URL:https://opocbluepacific.org
X-WR-CALDESC:Events for OPOC
REFRESH-INTERVAL;VALUE=DURATION:PT1H
X-Robots-Tag:noindex
X-PUBLISHED-TTL:PT1H
BEGIN:VTIMEZONE
TZID:UTC
BEGIN:STANDARD
TZOFFSETFROM:+0000
TZOFFSETTO:+0000
TZNAME:UTC
DTSTART:20230101T000000
END:STANDARD
END:VTIMEZONE
BEGIN:VEVENT
DTSTART;TZID=UTC:20241021T080000
DTEND;TZID=UTC:20241021T170000
DTSTAMP:20260425T121837
CREATED:20240318T231456Z
LAST-MODIFIED:20240318T231456Z
UID:1828-1729497600-1729530000@opocbluepacific.org
SUMMARY:Commonwealth Heads of Government Meeting\, Apia\, Samoa
DESCRIPTION:
URL:https://opocbluepacific.org/event/commonwealth-heads-of-government-meeting-apia-samoa/
CATEGORIES:The Blue Pacific Continent
ATTACH;FMTTYPE=image/jpeg:https://opocbluepacific.org/wp-content/uploads/2025/05/Corres20250513-336-UNOC-13May-Practical-Information-UNOC3.-9-13-June-2025-Nice-France-pdf.jpg
END:VEVENT
END:VCALENDAR