BEGIN:VCALENDAR
VERSION:2.0
PRODID:-//OPOC - ECPv6.15.13.1//NONSGML v1.0//EN
CALSCALE:GREGORIAN
METHOD:PUBLISH
X-WR-CALNAME:OPOC
X-ORIGINAL-URL:https://opocbluepacific.org
X-WR-CALDESC:Events for OPOC
REFRESH-INTERVAL;VALUE=DURATION:PT1H
X-Robots-Tag:noindex
X-PUBLISHED-TTL:PT1H
BEGIN:VTIMEZONE
TZID:UTC
BEGIN:STANDARD
TZOFFSETFROM:+0000
TZOFFSETTO:+0000
TZNAME:UTC
DTSTART:20240101T000000
END:STANDARD
END:VTIMEZONE
BEGIN:VEVENT
DTSTART;TZID=UTC:20250311T080000
DTEND;TZID=UTC:20250311T170000
DTSTAMP:20260425T195029
CREATED:20241206T023910Z
LAST-MODIFIED:20250210T213059Z
UID:1987-1741680000-1741712400@opocbluepacific.org
SUMMARY:Ocean Economic Summit - Hosted by Nippon Foundation
DESCRIPTION:
URL:https://opocbluepacific.org/event/ocean-economic-summit-hosted-by-nippon-foundation/
LOCATION:Japan\, Japan
CATEGORIES:The Blue Pacific Continent
ATTACH;FMTTYPE=image/jpeg:https://opocbluepacific.org/wp-content/uploads/2024/12/Ocean-Economic-Summit-–-Hosted-by-Nippon-Foundation.jpg
END:VEVENT
END:VCALENDAR