BEGIN:VCALENDAR
VERSION:2.0
PRODID:-//OPOC - ECPv6.15.13.1//NONSGML v1.0//EN
CALSCALE:GREGORIAN
METHOD:PUBLISH
X-ORIGINAL-URL:https://opocbluepacific.org
X-WR-CALDESC:Events for OPOC
REFRESH-INTERVAL;VALUE=DURATION:PT1H
X-Robots-Tag:noindex
X-PUBLISHED-TTL:PT1H
BEGIN:VTIMEZONE
TZID:UTC
BEGIN:STANDARD
TZOFFSETFROM:+0000
TZOFFSETTO:+0000
TZNAME:UTC
DTSTART:20230101T000000
END:STANDARD
END:VTIMEZONE
BEGIN:VEVENT
DTSTART;TZID=UTC:20250414T080000
DTEND;TZID=UTC:20250425T170000
DTSTAMP:20260423T213159
CREATED:20241121T211950Z
LAST-MODIFIED:20250210T212709Z
UID:1945-1744617600-1745600400@opocbluepacific.org
SUMMARY:BBNJ Preparatory Commission
DESCRIPTION:
URL:https://opocbluepacific.org/event/bbnj-preparatory-commission/
LOCATION:New York\, UNHQ New York\, United States
CATEGORIES:The Blue Pacific Continent
ATTACH;FMTTYPE=image/png:https://opocbluepacific.org/wp-content/uploads/2024/11/BBNJ-Preparatory-Commission.png
END:VEVENT
BEGIN:VEVENT
DTSTART;TZID=UTC:20250410T080000
DTEND;TZID=UTC:20250411T170000
DTSTAMP:20260423T213159
CREATED:20241206T024139Z
LAST-MODIFIED:20250210T212802Z
UID:1991-1744272000-1744390800@opocbluepacific.org
SUMMARY:Pacific Ocean Alliance Ministerial Meeting
DESCRIPTION:
URL:https://opocbluepacific.org/event/pacific-ocean-alliance-ministerial-meeting-2/
LOCATION:Fiji\, Suva\, Fiji
CATEGORIES:The Blue Pacific Continent
ATTACH;FMTTYPE=image/png:https://opocbluepacific.org/wp-content/uploads/2024/12/Pacific-Ocean-Alliance-Ministerial-Meeting.png
END:VEVENT
BEGIN:VEVENT
DTSTART;TZID=UTC:20250331T080000
DTEND;TZID=UTC:20250404T170000
DTSTAMP:20260423T213159
CREATED:20241121T211546Z
LAST-MODIFIED:20250519T231407Z
UID:1940-1743408000-1743786000@opocbluepacific.org
SUMMARY:Regional BBNJ Preparatory Meeting PrepCom
DESCRIPTION:
URL:https://opocbluepacific.org/event/regional-bbnj-preparatory-meeting-prepcom/
LOCATION:Fiji\, Suva\, Fiji
CATEGORIES:The Blue Pacific Continent
ATTACH;FMTTYPE=image/jpeg:https://opocbluepacific.org/wp-content/uploads/2024/11/Regional-BBNJ-Preparatory-Meeting-PrepCom.jpg
END:VEVENT
BEGIN:VEVENT
DTSTART;TZID=UTC:20250311T080000
DTEND;TZID=UTC:20250311T170000
DTSTAMP:20260423T213159
CREATED:20241206T023910Z
LAST-MODIFIED:20250210T213059Z
UID:1987-1741680000-1741712400@opocbluepacific.org
SUMMARY:Ocean Economic Summit - Hosted by Nippon Foundation
DESCRIPTION:
URL:https://opocbluepacific.org/event/ocean-economic-summit-hosted-by-nippon-foundation/
LOCATION:Japan\, Japan
CATEGORIES:The Blue Pacific Continent
ATTACH;FMTTYPE=image/jpeg:https://opocbluepacific.org/wp-content/uploads/2024/12/Ocean-Economic-Summit-–-Hosted-by-Nippon-Foundation.jpg
END:VEVENT
BEGIN:VEVENT
DTSTART;TZID=UTC:20250225T080000
DTEND;TZID=UTC:20250227T170000
DTSTAMP:20260423T213159
CREATED:20241121T211229Z
LAST-MODIFIED:20250210T213152Z
UID:1933-1740470400-1740675600@opocbluepacific.org
SUMMARY:Honiara Summit on SDG 14.4
DESCRIPTION:
URL:https://opocbluepacific.org/event/honiara-summit-on-sdg-14-4/
LOCATION:Honiara\, Solomon Islands\, Honiara\, Solomon Islands
CATEGORIES:The Blue Pacific Continent
ATTACH;FMTTYPE=image/png:https://opocbluepacific.org/wp-content/uploads/2024/11/Honiara-Summit-on-SDG-14.4.png
END:VEVENT
BEGIN:VEVENT
DTSTART;TZID=UTC:20250217T080000
DTEND;TZID=UTC:20250221T170000
DTSTAMP:20260423T213159
CREATED:20241206T023545Z
LAST-MODIFIED:20250210T213300Z
UID:1983-1739779200-1740157200@opocbluepacific.org
SUMMARY:Pacific Islands Forum Talanoa on Deep Sea Minerals
DESCRIPTION:
URL:https://opocbluepacific.org/event/pacific-islands-forum-talanoa-on-deep-sea-minerals-2/
LOCATION:Fiji\, Suva\, Fiji
CATEGORIES:The Blue Pacific Continent
ATTACH;FMTTYPE=image/png:https://opocbluepacific.org/wp-content/uploads/2024/12/Pacific-Islands-Forum-Talanoa-on-Deep-Sea-Minerals.png
END:VEVENT
BEGIN:VEVENT
DTSTART;TZID=UTC:20250203T080000
DTEND;TZID=UTC:20250205T170000
DTSTAMP:20260423T213159
CREATED:20241206T023503Z
LAST-MODIFIED:20250210T211639Z
UID:1981-1738569600-1738774800@opocbluepacific.org
SUMMARY:Regional Technical Preparations to UNOC3
DESCRIPTION:
URL:https://opocbluepacific.org/event/regional-technical-preparations-to-unoc3-2/
LOCATION:Fiji\, Suva\, Fiji
CATEGORIES:The Blue Pacific Continent
ATTACH;FMTTYPE=image/png:https://opocbluepacific.org/wp-content/uploads/2024/12/UNOC3.png
END:VEVENT
BEGIN:VEVENT
DTSTART;TZID=UTC:20241106T080000
DTEND;TZID=UTC:20241108T170000
DTSTAMP:20260423T213159
CREATED:20240318T231557Z
LAST-MODIFIED:20240318T231557Z
UID:1832-1730880000-1731085200@opocbluepacific.org
SUMMARY:East Asia Seas Congress\, Xiamen
DESCRIPTION:
URL:https://opocbluepacific.org/event/east-asia-seas-congress-xiamen/
CATEGORIES:The Blue Pacific Continent
ATTACH;FMTTYPE=image/jpeg:https://opocbluepacific.org/wp-content/uploads/2025/05/Corres20250513-336-UNOC-13May-Practical-Information-UNOC3.-9-13-June-2025-Nice-France-pdf.jpg
END:VEVENT
BEGIN:VEVENT
DTSTART;TZID=UTC:20241021T080000
DTEND;TZID=UTC:20241021T170000
DTSTAMP:20260423T213159
CREATED:20240318T231456Z
LAST-MODIFIED:20240318T231456Z
UID:1828-1729497600-1729530000@opocbluepacific.org
SUMMARY:Commonwealth Heads of Government Meeting\, Apia\, Samoa
DESCRIPTION:
URL:https://opocbluepacific.org/event/commonwealth-heads-of-government-meeting-apia-samoa/
CATEGORIES:The Blue Pacific Continent
ATTACH;FMTTYPE=image/jpeg:https://opocbluepacific.org/wp-content/uploads/2025/05/Corres20250513-336-UNOC-13May-Practical-Information-UNOC3.-9-13-June-2025-Nice-France-pdf.jpg
END:VEVENT
BEGIN:VEVENT
DTSTART;TZID=UTC:20240925T080000
DTEND;TZID=UTC:20241001T170000
DTSTAMP:20260423T213159
CREATED:20240318T231412Z
LAST-MODIFIED:20240703T023544Z
UID:1825-1727251200-1727802000@opocbluepacific.org
SUMMARY:WCPF 20th Regular Session of the Technical and Compliance Committee\, Pohnpei\, Federated States of Micronesia
DESCRIPTION:
URL:https://opocbluepacific.org/event/wcpf-20th-regular-session-of-the-technical-and-compliance-committee-pohnpei-federated-states-of-micronesia/
CATEGORIES:The Blue Pacific Continent
ATTACH;FMTTYPE=image/jpeg:https://opocbluepacific.org/wp-content/uploads/2024/05/Defssault-1200x500-1.jpg
END:VEVENT
BEGIN:VEVENT
DTSTART;TZID=UTC:20240826T080000
DTEND;TZID=UTC:20240830T170000
DTSTAMP:20260423T213159
CREATED:20240318T231325Z
LAST-MODIFIED:20240718T231749Z
UID:1823-1724659200-1725037200@opocbluepacific.org
SUMMARY:Pacific Islands Forum Leaders Meeting
DESCRIPTION:
URL:https://opocbluepacific.org/event/pacific-islands-forum-leaders-meeting/
CATEGORIES:The Blue Pacific Continent
ATTACH;FMTTYPE=image/jpeg:https://opocbluepacific.org/wp-content/uploads/2024/05/Defssault-1200x500-1.jpg
END:VEVENT
BEGIN:VEVENT
DTSTART;TZID=UTC:20240814T080000
DTEND;TZID=UTC:20240821T170000
DTSTAMP:20260423T213159
CREATED:20240318T231242Z
LAST-MODIFIED:20240718T231650Z
UID:1821-1723622400-1724259600@opocbluepacific.org
SUMMARY:WCPFC 20th Regular Session of the Scientific Committee\, Philippines
DESCRIPTION:
URL:https://opocbluepacific.org/event/wcpfc-20th-regular-session-of-the-scientific-committee-philippines/
CATEGORIES:The Blue Pacific Continent
ATTACH;FMTTYPE=image/jpeg:https://opocbluepacific.org/wp-content/uploads/2024/05/Defssault-1200x500-1.jpg
END:VEVENT
BEGIN:VEVENT
DTSTART;TZID=UTC:20240730T080000
DTEND;TZID=UTC:20240731T170000
DTSTAMP:20260423T213159
CREATED:20240318T231125Z
LAST-MODIFIED:20240718T231608Z
UID:1815-1722326400-1722445200@opocbluepacific.org
SUMMARY:Pre Forum FOC
DESCRIPTION:
URL:https://opocbluepacific.org/event/pre-forum-foc/
CATEGORIES:The Blue Pacific Continent
ATTACH;FMTTYPE=image/png:https://opocbluepacific.org/wp-content/uploads/2024/03/traced-OPOC-LOGO-e1710759077903.png
END:VEVENT
BEGIN:VEVENT
DTSTART;TZID=UTC:20240715T080000
DTEND;TZID=UTC:20240716T170000
DTSTAMP:20260423T213159
CREATED:20240318T231010Z
LAST-MODIFIED:20240703T023758Z
UID:1810-1721030400-1721149200@opocbluepacific.org
SUMMARY:WCPFC 20th Regular Session of the Northern Committee\, Hokkaido\, Japan
DESCRIPTION:
URL:https://opocbluepacific.org/event/wcpfc-20th-regular-session-of-the-northern-committee-hokkaido-japan/
CATEGORIES:The Blue Pacific Continent
ATTACH;FMTTYPE=image/jpeg:https://opocbluepacific.org/wp-content/uploads/2024/05/Defssault-1200x500-1.jpg
END:VEVENT
BEGIN:VEVENT
DTSTART;TZID=UTC:20240710T080000
DTEND;TZID=UTC:20240713T170000
DTSTAMP:20260423T213159
CREATED:20240318T230940Z
LAST-MODIFIED:20240703T023726Z
UID:1808-1720598400-1720890000@opocbluepacific.org
SUMMARY:WCPFC Ninth Joint IATTC-NC Working Group Meeting on PBF Management\, Hokkaido\, Japan
DESCRIPTION:
URL:https://opocbluepacific.org/event/wcpfc-ninth-joint-iattc-nc-working-group-meeting-on-pbf-management-hokkaido-japan/
CATEGORIES:The Blue Pacific Continent
ATTACH;FMTTYPE=image/jpeg:https://opocbluepacific.org/wp-content/uploads/2024/05/Defssault-1200x500-1.jpg
END:VEVENT
BEGIN:VEVENT
DTSTART;TZID=UTC:20240701T080000
DTEND;TZID=UTC:20240705T170000
DTSTAMP:20260423T213159
CREATED:20240318T230911Z
LAST-MODIFIED:20240703T023652Z
UID:1805-1719820800-1720198800@opocbluepacific.org
SUMMARY:FAO Committee of Fisheries\, Rome
DESCRIPTION:
URL:https://opocbluepacific.org/event/fao-committee-of-fisheries-rome/
CATEGORIES:The Blue Pacific Continent
ATTACH;FMTTYPE=image/jpeg:https://opocbluepacific.org/wp-content/uploads/2024/05/Defssault-1200x500-1.jpg
END:VEVENT
BEGIN:VEVENT
DTSTART;TZID=UTC:20240618T080000
DTEND;TZID=UTC:20240621T170000
DTSTAMP:20260423T213159
CREATED:20240318T230836Z
LAST-MODIFIED:20240318T230836Z
UID:1803-1718697600-1718989200@opocbluepacific.org
SUMMARY:UN Open-ended Informal Consultative Process on Ocean and the Law of the Sea – 24th meeting\, UNHQ\, New York
DESCRIPTION:
URL:https://opocbluepacific.org/event/un-open-ended-informal-consultative-process-on-ocean-and-the-law-of-the-sea-24th-meeting-unhq-new-york/
CATEGORIES:The Blue Pacific Continent
ATTACH;FMTTYPE=image/jpeg:https://opocbluepacific.org/wp-content/uploads/2025/05/Corres20250513-336-UNOC-13May-Practical-Information-UNOC3.-9-13-June-2025-Nice-France-pdf.jpg
END:VEVENT
BEGIN:VEVENT
DTSTART;TZID=UTC:20240610T080000
DTEND;TZID=UTC:20240614T170000
DTSTAMP:20260423T213159
CREATED:20240318T230754Z
LAST-MODIFIED:20240318T230754Z
UID:1801-1718006400-1718384400@opocbluepacific.org
SUMMARY:Meeting of States Parties to the 1982 UNCLOS – 34th meeting\, UNHQ\, New York
DESCRIPTION:
URL:https://opocbluepacific.org/event/meeting-of-states-parties-to-the-1982-unclos-34th-meeting-unhq-new-york/
CATEGORIES:The Blue Pacific Continent
ATTACH;FMTTYPE=image/jpeg:https://opocbluepacific.org/wp-content/uploads/2025/05/Corres20250513-336-UNOC-13May-Practical-Information-UNOC3.-9-13-June-2025-Nice-France-pdf.jpg
END:VEVENT
BEGIN:VEVENT
DTSTART;TZID=UTC:20240608T080000
DTEND;TZID=UTC:20240608T170000
DTSTAMP:20260423T213159
CREATED:20220623T225124Z
LAST-MODIFIED:20240603T010412Z
UID:1173-1717833600-1717866000@opocbluepacific.org
SUMMARY:World Ocean Day- June 8- Awakening New Depths
DESCRIPTION:
URL:https://opocbluepacific.org/event/world-ocean-day/
LOCATION:Plenary Room\, Altice Arena\, Lisbone
CATEGORIES:United Nations Ocean Conference
ATTACH;FMTTYPE=image/jpeg:https://opocbluepacific.org/wp-content/uploads/2025/05/Corres20250513-336-UNOC-13May-Practical-Information-UNOC3.-9-13-June-2025-Nice-France-pdf.jpg
END:VEVENT
BEGIN:VEVENT
DTSTART;TZID=UTC:20240527T080000
DTEND;TZID=UTC:20240530T170000
DTSTAMP:20260423T213159
CREATED:20240318T230718Z
LAST-MODIFIED:20240318T230718Z
UID:1798-1716796800-1717088400@opocbluepacific.org
SUMMARY:Fourth International Conference on Small Island Developing States (SIDS)
DESCRIPTION:
URL:https://opocbluepacific.org/event/fourth-international-conference-on-small-island-developing-states-sids/
CATEGORIES:The Blue Pacific Continent
ATTACH;FMTTYPE=image/jpeg:https://opocbluepacific.org/wp-content/uploads/2025/05/Corres20250513-336-UNOC-13May-Practical-Information-UNOC3.-9-13-June-2025-Nice-France-pdf.jpg
END:VEVENT
BEGIN:VEVENT
DTSTART;TZID=UTC:20240515T080000
DTEND;TZID=UTC:20240517T170000
DTSTAMP:20260423T213159
CREATED:20240318T230637Z
LAST-MODIFIED:20240318T230637Z
UID:1794-1715760000-1715965200@opocbluepacific.org
SUMMARY:Informal Consultations of States Parties to the UN Fish Stocks Agreement\, UNHQ\, New York
DESCRIPTION:
URL:https://opocbluepacific.org/event/informal-consultations-of-states-parties-to-the-un-fish-stocks-agreement-unhq-new-york/
CATEGORIES:The Blue Pacific Continent
ATTACH;FMTTYPE=image/jpeg:https://opocbluepacific.org/wp-content/uploads/2025/05/Corres20250513-336-UNOC-13May-Practical-Information-UNOC3.-9-13-June-2025-Nice-France-pdf.jpg
END:VEVENT
BEGIN:VEVENT
DTSTART;TZID=UTC:20240423T080000
DTEND;TZID=UTC:20240429T170000
DTSTAMP:20260423T213159
CREATED:20240318T230543Z
LAST-MODIFIED:20240318T230543Z
UID:1791-1713859200-1714410000@opocbluepacific.org
SUMMARY:Fourth session of the Intergovernmental Negotiating Committee to develop an international legally binding instrument on plastic pollution\, including in the marine environment (Plastic INC 4)\, Ottawa Canada
DESCRIPTION:
URL:https://opocbluepacific.org/event/fourth-session-of-the-intergovernmental-negotiating-committee-to-develop-an-international-legally-binding-instrument-on-plastic-pollution-including-in-the-marine-environment-plastic-inc-4-ottawa-c/
CATEGORIES:The Blue Pacific Continent
ATTACH;FMTTYPE=image/jpeg:https://opocbluepacific.org/wp-content/uploads/2025/05/Corres20250513-336-UNOC-13May-Practical-Information-UNOC3.-9-13-June-2025-Nice-France-pdf.jpg
END:VEVENT
BEGIN:VEVENT
DTSTART;TZID=UTC:20240422T080000
DTEND;TZID=UTC:20240426T170000
DTSTAMP:20260423T213159
CREATED:20240318T230516Z
LAST-MODIFIED:20240318T230516Z
UID:1789-1713772800-1714150800@opocbluepacific.org
SUMMARY:Heads of Fisheries 16th Meeting\, SPC Headquaters\, Noumea
DESCRIPTION:
URL:https://opocbluepacific.org/event/heads-of-fisheries-16th-meeting-spc-headquaters-noumea/
CATEGORIES:The Blue Pacific Continent
ATTACH;FMTTYPE=image/jpeg:https://opocbluepacific.org/wp-content/uploads/2025/05/Corres20250513-336-UNOC-13May-Practical-Information-UNOC3.-9-13-June-2025-Nice-France-pdf.jpg
END:VEVENT
BEGIN:VEVENT
DTSTART;TZID=UTC:20240418T080000
DTEND;TZID=UTC:20240419T170000
DTSTAMP:20260423T213159
CREATED:20240410T005008Z
LAST-MODIFIED:20240410T005008Z
UID:1851-1713427200-1713546000@opocbluepacific.org
SUMMARY:Commonwealth Ocean Ministers Meeting\, Cyprus
DESCRIPTION:
URL:https://opocbluepacific.org/event/commonwealth-ocean-ministers-meeting-cyprus/
CATEGORIES:The Blue Pacific Continent
ATTACH;FMTTYPE=image/jpeg:https://opocbluepacific.org/wp-content/uploads/2025/05/Corres20250513-336-UNOC-13May-Practical-Information-UNOC3.-9-13-June-2025-Nice-France-pdf.jpg
END:VEVENT
BEGIN:VEVENT
DTSTART;TZID=UTC:20240415T080000
DTEND;TZID=UTC:20240417T170000
DTSTAMP:20260423T213159
CREATED:20240318T230446Z
LAST-MODIFIED:20240318T230446Z
UID:1786-1713168000-1713373200@opocbluepacific.org
SUMMARY:Our Ocean Conference\, Athens
DESCRIPTION:
URL:https://opocbluepacific.org/event/our-ocean-conference-athens/
CATEGORIES:The Blue Pacific Continent
ATTACH;FMTTYPE=image/jpeg:https://opocbluepacific.org/wp-content/uploads/2025/05/Corres20250513-336-UNOC-13May-Practical-Information-UNOC3.-9-13-June-2025-Nice-France-pdf.jpg
END:VEVENT
BEGIN:VEVENT
DTSTART;TZID=UTC:20240410T080000
DTEND;TZID=UTC:20240412T170000
DTSTAMP:20260423T213159
CREATED:20240318T230413Z
LAST-MODIFIED:20240318T230413Z
UID:1784-1712736000-1712941200@opocbluepacific.org
SUMMARY:Ocean Decade Conference\, Barcelona\, Spain
DESCRIPTION:
URL:https://opocbluepacific.org/event/ocean-decade-conference-barcelona-spain/
CATEGORIES:The Blue Pacific Continent
ATTACH;FMTTYPE=image/jpeg:https://opocbluepacific.org/wp-content/uploads/2025/05/Corres20250513-336-UNOC-13May-Practical-Information-UNOC3.-9-13-June-2025-Nice-France-pdf.jpg
END:VEVENT
BEGIN:VEVENT
DTSTART;TZID=UTC:20240318T080000
DTEND;TZID=UTC:20240326T170000
DTSTAMP:20260423T213159
CREATED:20240318T230337Z
LAST-MODIFIED:20240318T230337Z
UID:1781-1710748800-1711472400@opocbluepacific.org
SUMMARY:Pacific Dialogue on NBSAP\, Target 3 - GBF and GEF Early Action Support\, Nadi.
DESCRIPTION:
URL:https://opocbluepacific.org/event/pacific-dialogue-on-nbsap-target-3-gbf-and-gef-early-action-support-nadi/
CATEGORIES:The Blue Pacific Continent
ATTACH;FMTTYPE=image/jpeg:https://opocbluepacific.org/wp-content/uploads/2025/05/Corres20250513-336-UNOC-13May-Practical-Information-UNOC3.-9-13-June-2025-Nice-France-pdf.jpg
END:VEVENT
BEGIN:VEVENT
DTSTART;TZID=UTC:20240311T080000
DTEND;TZID=UTC:20240313T170000
DTSTAMP:20260423T213159
CREATED:20240318T230310Z
LAST-MODIFIED:20240318T230310Z
UID:1779-1710144000-1710349200@opocbluepacific.org
SUMMARY:The Economist World Ocean Summit\, Lisbon.
DESCRIPTION:
URL:https://opocbluepacific.org/event/the-economist-world-ocean-summit-lisbon/
CATEGORIES:The Blue Pacific Continent
ATTACH;FMTTYPE=image/jpeg:https://opocbluepacific.org/wp-content/uploads/2025/05/Corres20250513-336-UNOC-13May-Practical-Information-UNOC3.-9-13-June-2025-Nice-France-pdf.jpg
END:VEVENT
BEGIN:VEVENT
DTSTART;TZID=UTC:20240301T080000
DTEND;TZID=UTC:20240301T170000
DTSTAMP:20260423T213159
CREATED:20240318T230239Z
LAST-MODIFIED:20240318T230239Z
UID:1777-1709280000-1709312400@opocbluepacific.org
SUMMARY:Sixth session of the United Nations Environment Assembly (UNEA-6)
DESCRIPTION:
URL:https://opocbluepacific.org/event/sixth-session-of-the-united-nations-environment-assembly-unea-6-2/
CATEGORIES:The Blue Pacific Continent
ATTACH;FMTTYPE=image/jpeg:https://opocbluepacific.org/wp-content/uploads/2025/05/Corres20250513-336-UNOC-13May-Practical-Information-UNOC3.-9-13-June-2025-Nice-France-pdf.jpg
END:VEVENT
BEGIN:VEVENT
DTSTART;TZID=UTC:20240226T080000
DTEND;TZID=UTC:20240229T170000
DTSTAMP:20260423T213159
CREATED:20240318T230034Z
LAST-MODIFIED:20240318T230218Z
UID:1775-1708934400-1709226000@opocbluepacific.org
SUMMARY:World Trade Organisation Ministerial Conference 13\, Abhu Dhabi
DESCRIPTION:
URL:https://opocbluepacific.org/event/world-trade-organisation-ministerial-conference-13-abhu-dhabi/
CATEGORIES:The Blue Pacific Continent
ATTACH;FMTTYPE=image/jpeg:https://opocbluepacific.org/wp-content/uploads/2025/05/Corres20250513-336-UNOC-13May-Practical-Information-UNOC3.-9-13-June-2025-Nice-France-pdf.jpg
END:VEVENT
END:VCALENDAR